Package: CAGEWorkflow Version: 1.23.0 Maintainer: Malte Thodberg MaintainerEmail: maltethodberg at gmail.com git_url: https://git.bioconductor.org/packages/CAGEWorkflow git_branch: devel git_last_commit: aabefc6 git_last_commit_date: 2024-10-29 10:03:18 -0500 (Tue, 29 Oct 2024)