Package: CAGEWorkflow Version: 1.23.0 Command: /Library/Frameworks/R.framework/Resources/bin/R CMD build --keep-empty-dirs --no-resave-data CAGEWorkflow StartedAt: 2025-02-07 13:03:40 -0500 (Fri, 07 Feb 2025) EndedAt: 2025-02-07 13:10:19 -0500 (Fri, 07 Feb 2025) EllapsedTime: 398.4 seconds RetCode: 0 Status: OK PackageFile: CAGEWorkflow_1.23.0.tar.gz PackageFileSize: 906.6 KiB