Package: CAGEWorkflow Version: 1.23.0 Command: /Library/Frameworks/R.framework/Resources/bin/R CMD INSTALL CAGEWorkflow StartedAt: 2025-02-07 13:00:37 -0500 (Fri, 07 Feb 2025) EndedAt: 2025-02-07 13:01:02 -0500 (Fri, 07 Feb 2025) EllapsedTime: 25.1 seconds RetCode: 0 Status: OK