Package: CAGEWorkflow Version: 1.23.0 Command: /home/biocbuild/bbs-3.21-bioc/R/bin/R CMD build --keep-empty-dirs --no-resave-data CAGEWorkflow StartedAt: 2025-01-31 13:04:26 -0500 (Fri, 31 Jan 2025) EndedAt: 2025-01-31 13:12:00 -0500 (Fri, 31 Jan 2025) EllapsedTime: 454.5 seconds RetCode: 0 Status: OK PackageFile: CAGEWorkflow_1.23.0.tar.gz PackageFileSize: 816.1 KiB