Package: CAGEWorkflow Version: 1.23.0 Command: /home/biocbuild/bbs-3.21-bioc/R/bin/R CMD INSTALL CAGEWorkflow StartedAt: 2025-01-31 13:00:32 -0500 (Fri, 31 Jan 2025) EndedAt: 2025-01-31 13:01:02 -0500 (Fri, 31 Jan 2025) EllapsedTime: 30.1 seconds RetCode: 0 Status: OK