Package: RnaSeqGeneEdgeRQL Version: 1.31.0 Maintainer: Yunshun Chen MaintainerEmail: yuchen at wehi.edu.au git_url: https://git.bioconductor.org/packages/RnaSeqGeneEdgeRQL git_branch: devel git_last_commit: 7c37b6b git_last_commit_date: 2024-10-29 10:02:45 -0500 (Tue, 29 Oct 2024)