Package: RnaSeqGeneEdgeRQL Version: 1.31.0 Command: /home/biocbuild/bbs-3.21-bioc/R/bin/R CMD build --keep-empty-dirs --no-resave-data RnaSeqGeneEdgeRQL StartedAt: 2025-02-07 13:09:08 -0500 (Fri, 07 Feb 2025) EndedAt: 2025-02-07 13:10:19 -0500 (Fri, 07 Feb 2025) EllapsedTime: 71.0 seconds RetCode: 0 Status: OK PackageFile: RnaSeqGeneEdgeRQL_1.31.0.tar.gz PackageFileSize: 1.595 MiB