Package: RnaSeqGeneEdgeRQL Version: 1.31.0 Command: chmod a+r RnaSeqGeneEdgeRQL -R && E:\biocbuild\bbs-3.21-bioc\R\bin\R.exe CMD build --keep-empty-dirs --no-resave-data RnaSeqGeneEdgeRQL StartedAt: 2025-02-07 13:14:31 -0500 (Fri, 07 Feb 2025) EndedAt: 2025-02-07 13:15:36 -0500 (Fri, 07 Feb 2025) EllapsedTime: 65.0 seconds RetCode: 0 Status: OK PackageFile: RnaSeqGeneEdgeRQL_1.31.0.tar.gz PackageFileSize: 1.129 MiB