Package: RnaSeqGeneEdgeRQL Version: 1.31.0 Command: E:\biocbuild\bbs-3.21-bioc\R\bin\R.exe CMD INSTALL RnaSeqGeneEdgeRQL StartedAt: 2025-02-07 13:01:33 -0500 (Fri, 07 Feb 2025) EndedAt: 2025-02-07 13:01:47 -0500 (Fri, 07 Feb 2025) EllapsedTime: 13.4 seconds RetCode: 0 Status: OK