Package: TCGAWorkflow Version: 1.31.0 Command: /Library/Frameworks/R.framework/Resources/bin/R CMD build --keep-empty-dirs --no-resave-data TCGAWorkflow StartedAt: 2025-02-07 13:09:33 -0500 (Fri, 07 Feb 2025) EndedAt: 2025-02-07 13:18:22 -0500 (Fri, 07 Feb 2025) EllapsedTime: 529.1 seconds RetCode: 0 Status: OK PackageFile: TCGAWorkflow_1.31.0.tar.gz PackageFileSize: 3.855 MiB