Package: TCGAWorkflow Version: 1.31.0 Command: /home/biocbuild/bbs-3.21-bioc/R/bin/R CMD build --keep-empty-dirs --no-resave-data TCGAWorkflow StartedAt: 2025-02-04 13:10:32 -0500 (Tue, 04 Feb 2025) EndedAt: 2025-02-04 13:34:10 -0500 (Tue, 04 Feb 2025) EllapsedTime: 1417.3 seconds RetCode: 0 Status: OK PackageFile: TCGAWorkflow_1.31.0.tar.gz PackageFileSize: 3.852 MiB