Package: TCGAWorkflow Version: 1.31.0 Command: chmod a+r TCGAWorkflow -R && E:\biocbuild\bbs-3.21-bioc\R\bin\R.exe CMD build --keep-empty-dirs --no-resave-data TCGAWorkflow StartedAt: 2025-02-04 13:17:34 -0500 (Tue, 04 Feb 2025) EndedAt: 2025-02-04 13:49:08 -0500 (Tue, 04 Feb 2025) EllapsedTime: 1894.6 seconds RetCode: 0 Status: OK PackageFile: TCGAWorkflow_1.31.0.tar.gz PackageFileSize: 1.998 MiB