Package: TCGAWorkflow Version: 1.31.0 Command: E:\biocbuild\bbs-3.21-bioc\R\bin\R.exe CMD INSTALL TCGAWorkflow StartedAt: 2025-02-04 13:02:05 -0500 (Tue, 04 Feb 2025) EndedAt: 2025-02-04 13:03:14 -0500 (Tue, 04 Feb 2025) EllapsedTime: 68.5 seconds RetCode: 0 Status: OK