Package: annotation Version: 1.31.0 Command: /Library/Frameworks/R.framework/Resources/bin/R CMD build --keep-empty-dirs --no-resave-data annotation StartedAt: 2025-02-11 13:03:40 -0500 (Tue, 11 Feb 2025) EndedAt: 2025-02-11 13:08:53 -0500 (Tue, 11 Feb 2025) EllapsedTime: 312.2 seconds RetCode: 0 Status: OK PackageFile: annotation_1.31.0.tar.gz PackageFileSize: 877.6 KiB