Package: annotation Version: 1.31.0 Command: /home/biocbuild/bbs-3.21-bioc/R/bin/R CMD build --keep-empty-dirs --no-resave-data annotation StartedAt: 2025-02-11 13:04:28 -0500 (Tue, 11 Feb 2025) EndedAt: 2025-02-11 13:09:40 -0500 (Tue, 11 Feb 2025) EllapsedTime: 312.1 seconds RetCode: 0 Status: OK PackageFile: annotation_1.31.0.tar.gz PackageFileSize: 877.8 KiB