Package: annotation Version: 1.31.0 Command: chmod a+r annotation -R && E:\biocbuild\bbs-3.21-bioc\R\bin\R.exe CMD build --keep-empty-dirs --no-resave-data annotation StartedAt: 2025-02-11 13:07:13 -0500 (Tue, 11 Feb 2025) EndedAt: 2025-02-11 13:12:53 -0500 (Tue, 11 Feb 2025) EllapsedTime: 339.6 seconds RetCode: 1 Status: ERROR PackageFile: None PackageFileSize: NA