Package: annotation Version: 1.31.0 Command: E:\biocbuild\bbs-3.21-bioc\R\bin\R.exe CMD INSTALL annotation StartedAt: 2025-02-07 13:02:32 -0500 (Fri, 07 Feb 2025) EndedAt: 2025-02-07 13:03:04 -0500 (Fri, 07 Feb 2025) EllapsedTime: 32.4 seconds RetCode: 0 Status: OK