Package: arrays Version: 1.33.0 Command: E:\biocbuild\bbs-3.21-bioc\R\bin\R.exe CMD INSTALL arrays StartedAt: 2025-02-11 13:01:25 -0500 (Tue, 11 Feb 2025) EndedAt: 2025-02-11 13:01:29 -0500 (Tue, 11 Feb 2025) EllapsedTime: 3.1 seconds RetCode: 0 Status: OK