Package: csawUsersGuide Version: 1.23.0 Command: /Library/Frameworks/R.framework/Resources/bin/R CMD build --keep-empty-dirs --no-resave-data csawUsersGuide StartedAt: 2025-01-31 13:03:38 -0500 (Fri, 31 Jan 2025) EndedAt: 2025-01-31 13:03:45 -0500 (Fri, 31 Jan 2025) EllapsedTime: 6.9 seconds RetCode: 0 Status: OK PackageFile: csawUsersGuide_1.23.0.tar.gz PackageFileSize: 35.76 KiB