Package: csawUsersGuide Version: 1.23.0 Command: /Library/Frameworks/R.framework/Resources/bin/R CMD INSTALL csawUsersGuide StartedAt: 2025-02-07 13:00:18 -0500 (Fri, 07 Feb 2025) EndedAt: 2025-02-07 13:00:22 -0500 (Fri, 07 Feb 2025) EllapsedTime: 4.1 seconds RetCode: 0 Status: OK