Package: csawUsersGuide Version: 1.23.0 Command: /home/biocbuild/bbs-3.21-bioc/R/bin/R CMD INSTALL csawUsersGuide StartedAt: 2025-02-07 13:00:12 -0500 (Fri, 07 Feb 2025) EndedAt: 2025-02-07 13:00:17 -0500 (Fri, 07 Feb 2025) EllapsedTime: 4.4 seconds RetCode: 0 Status: OK