Package: csawUsersGuide Version: 1.23.0 Command: chmod a+r csawUsersGuide -R && E:\biocbuild\bbs-3.21-bioc\R\bin\R.exe CMD build --keep-empty-dirs --no-resave-data csawUsersGuide StartedAt: 2025-01-31 13:06:20 -0500 (Fri, 31 Jan 2025) EndedAt: 2025-01-31 13:06:30 -0500 (Fri, 31 Jan 2025) EllapsedTime: 9.4 seconds RetCode: 0 Status: OK PackageFile: csawUsersGuide_1.23.0.tar.gz PackageFileSize: 35.98 KiB