Package: csawUsersGuide Version: 1.23.0 Command: E:\biocbuild\bbs-3.21-bioc\R\bin\R.exe CMD INSTALL csawUsersGuide StartedAt: 2025-02-07 13:01:29 -0500 (Fri, 07 Feb 2025) EndedAt: 2025-02-07 13:01:33 -0500 (Fri, 07 Feb 2025) EllapsedTime: 3.3 seconds RetCode: 0 Status: OK