Package: liftOver Version: 1.31.0 Command: /Library/Frameworks/R.framework/Resources/bin/R CMD INSTALL liftOver StartedAt: 2025-02-11 13:00:52 -0500 (Tue, 11 Feb 2025) EndedAt: 2025-02-11 13:01:19 -0500 (Tue, 11 Feb 2025) EllapsedTime: 26.9 seconds RetCode: 0 Status: OK