Package: liftOver Version: 1.31.0 Command: E:\biocbuild\bbs-3.21-bioc\R\bin\R.exe CMD INSTALL liftOver StartedAt: 2025-02-07 13:02:18 -0500 (Fri, 07 Feb 2025) EndedAt: 2025-02-07 13:02:52 -0500 (Fri, 07 Feb 2025) EllapsedTime: 33.4 seconds RetCode: 0 Status: OK