Package: recountWorkflow Version: 1.31.0 Command: /Library/Frameworks/R.framework/Resources/bin/R CMD build --keep-empty-dirs --no-resave-data recountWorkflow StartedAt: 2025-02-07 13:05:00 -0500 (Fri, 07 Feb 2025) EndedAt: 2025-02-07 13:18:51 -0500 (Fri, 07 Feb 2025) EllapsedTime: 830.8 seconds RetCode: 0 Status: OK PackageFile: recountWorkflow_1.31.0.tar.gz PackageFileSize: 4.636 MiB