Package: recountWorkflow Version: 1.31.0 Command: /home/biocbuild/bbs-3.21-bioc/R/bin/R CMD build --keep-empty-dirs --no-resave-data recountWorkflow StartedAt: 2025-02-11 13:06:17 -0500 (Tue, 11 Feb 2025) EndedAt: 2025-02-11 13:22:35 -0500 (Tue, 11 Feb 2025) EllapsedTime: 978.3 seconds RetCode: 1 Status: ERROR PackageFile: None PackageFileSize: NA