Package: recountWorkflow Version: 1.31.0 Command: chmod a+r recountWorkflow -R && E:\biocbuild\bbs-3.21-bioc\R\bin\R.exe CMD build --keep-empty-dirs --no-resave-data recountWorkflow StartedAt: 2025-02-07 13:10:44 -0500 (Fri, 07 Feb 2025) EndedAt: 2025-02-07 13:26:14 -0500 (Fri, 07 Feb 2025) EllapsedTime: 929.9 seconds RetCode: 0 Status: OK PackageFile: recountWorkflow_1.31.0.tar.gz PackageFileSize: 2.84 MiB