Package: recountWorkflow Version: 1.31.0 Command: E:\biocbuild\bbs-3.21-bioc\R\bin\R.exe CMD INSTALL recountWorkflow StartedAt: 2025-02-11 13:01:58 -0500 (Tue, 11 Feb 2025) EndedAt: 2025-02-11 13:03:01 -0500 (Tue, 11 Feb 2025) EllapsedTime: 62.8 seconds RetCode: 0 Status: OK