Package: rnaseqDTU Version: 1.27.0 Command: /Library/Frameworks/R.framework/Resources/bin/R CMD INSTALL rnaseqDTU StartedAt: 2025-02-07 13:00:32 -0500 (Fri, 07 Feb 2025) EndedAt: 2025-02-07 13:01:05 -0500 (Fri, 07 Feb 2025) EllapsedTime: 33.1 seconds RetCode: 0 Status: OK