Package: ABarray Version: 1.74.0 Command: rm -rf ABarray.buildbin-libdir && mkdir ABarray.buildbin-libdir && /Users/biocbuild/BBS/utils/build-universal.sh ABarray_1.74.0.tar.gz /Library/Frameworks/R.framework/Resources/bin/R ABarray.buildbin-libdir StartedAt: 2025-02-04 12:25:42 -0500 (Tue, 04 Feb 2025) EndedAt: 2025-02-04 12:26:08 -0500 (Tue, 04 Feb 2025) EllapsedTime: 25.9 seconds RetCode: 0 Status: OK PackageFile: ABarray_1.74.0.tgz PackageFileSize: 746.8 KiB