Package: ABarray Version: 1.74.0 Command: /Library/Frameworks/R.framework/Resources/bin/R CMD build --keep-empty-dirs --no-resave-data ABarray StartedAt: 2025-02-03 16:58:09 -0500 (Mon, 03 Feb 2025) EndedAt: 2025-02-03 16:58:47 -0500 (Mon, 03 Feb 2025) EllapsedTime: 37.9 seconds RetCode: 0 Status: OK PackageFile: ABarray_1.74.0.tar.gz PackageFileSize: 686 KiB