Package: ABarray Version: 1.74.0 Command: /Library/Frameworks/R.framework/Resources/bin/R CMD check --install=check:ABarray.install-out.txt --library=/Library/Frameworks/R.framework/Resources/library --no-vignettes --timings ABarray_1.74.0.tar.gz StartedAt: 2025-02-03 23:28:42 -0500 (Mon, 03 Feb 2025) EndedAt: 2025-02-03 23:31:13 -0500 (Mon, 03 Feb 2025) EllapsedTime: 151.2 seconds RetCode: 0 Status: OK CheckDir: ABarray.Rcheck Warnings: 0