Package: ABarray Version: 1.74.0 Command: /home/biocbuild/bbs-3.20-bioc/R/bin/R CMD check --install=check:ABarray.install-out.txt --library=/home/biocbuild/bbs-3.20-bioc/R/site-library --timings ABarray_1.74.0.tar.gz StartedAt: 2025-02-03 19:56:30 -0500 (Mon, 03 Feb 2025) EndedAt: 2025-02-03 19:57:25 -0500 (Mon, 03 Feb 2025) EllapsedTime: 55.1 seconds RetCode: 0 Status: OK CheckDir: ABarray.Rcheck Warnings: 0