Package: ABarray Version: 1.74.0 Command: /home/biocbuild/bbs-3.20-bioc/R/bin/R CMD INSTALL ABarray StartedAt: 2025-02-03 16:02:53 -0500 (Mon, 03 Feb 2025) EndedAt: 2025-02-03 16:03:03 -0500 (Mon, 03 Feb 2025) EllapsedTime: 9.4 seconds RetCode: 0 Status: OK