Package: ABarray Version: 1.74.0 Command: /home/biocbuild/R/R/bin/R CMD build --keep-empty-dirs --no-resave-data ABarray StartedAt: 2025-02-03 21:31:54 -0000 (Mon, 03 Feb 2025) EndedAt: 2025-02-03 21:32:08 -0000 (Mon, 03 Feb 2025) EllapsedTime: 14.0 seconds RetCode: 0 Status: OK PackageFile: ABarray_1.74.0.tar.gz PackageFileSize: 667 KiB