Package: ABarray Version: 1.74.0 Command: /home/biocbuild/R/R/bin/R CMD check --install=check:ABarray.install-out.txt --library=/home/biocbuild/R/R/site-library --no-vignettes --timings ABarray_1.74.0.tar.gz StartedAt: 2025-02-04 04:11:10 -0000 (Tue, 04 Feb 2025) EndedAt: 2025-02-04 04:12:36 -0000 (Tue, 04 Feb 2025) EllapsedTime: 86.2 seconds RetCode: 0 Status: WARNINGS CheckDir: ABarray.Rcheck Warnings: 1