Package: ACE Version: 1.24.0 Command: rm -rf ACE.buildbin-libdir && mkdir ACE.buildbin-libdir && /Users/biocbuild/BBS/utils/build-universal.sh ACE_1.24.0.tar.gz /Library/Frameworks/R.framework/Resources/bin/R ACE.buildbin-libdir StartedAt: 2025-02-05 14:43:15 -0500 (Wed, 05 Feb 2025) EndedAt: 2025-02-05 14:43:39 -0500 (Wed, 05 Feb 2025) EllapsedTime: 24.0 seconds RetCode: 0 Status: OK PackageFile: ACE_1.24.0.tgz PackageFileSize: 2.789 MiB