Package: ACE Version: 1.24.0 Command: /Library/Frameworks/R.framework/Resources/bin/R CMD build --keep-empty-dirs --no-resave-data ACE StartedAt: 2025-02-03 18:24:18 -0500 (Mon, 03 Feb 2025) EndedAt: 2025-02-03 18:25:17 -0500 (Mon, 03 Feb 2025) EllapsedTime: 59.5 seconds RetCode: 0 Status: OK PackageFile: ACE_1.24.0.tar.gz PackageFileSize: 2.633 MiB