Package: ACE Version: 1.24.0 Command: /Library/Frameworks/R.framework/Resources/bin/R CMD INSTALL ACE StartedAt: 2025-02-03 16:18:22 -0500 (Mon, 03 Feb 2025) EndedAt: 2025-02-03 16:18:43 -0500 (Mon, 03 Feb 2025) EllapsedTime: 21.2 seconds RetCode: 0 Status: OK