Package: ACE Version: 1.24.0 Command: /home/biocbuild/bbs-3.20-bioc/R/bin/R CMD INSTALL ACE StartedAt: 2025-02-17 15:33:20 -0500 (Mon, 17 Feb 2025) EndedAt: 2025-02-17 15:33:37 -0500 (Mon, 17 Feb 2025) EllapsedTime: 16.7 seconds RetCode: 0 Status: OK