Package: ACE Version: 1.24.0 Command: chmod a+r ACE -R && F:\biocbuild\bbs-3.20-bioc\R\bin\R.exe CMD build --keep-empty-dirs --no-resave-data ACE StartedAt: 2025-02-03 17:24:34 -0500 (Mon, 03 Feb 2025) EndedAt: 2025-02-03 17:25:44 -0500 (Mon, 03 Feb 2025) EllapsedTime: 70.2 seconds RetCode: 0 Status: OK PackageFile: ACE_1.24.0.tar.gz PackageFileSize: 835.8 KiB