Package: ACE Version: 1.24.0 Command: F:\biocbuild\bbs-3.20-bioc\R\bin\R.exe CMD check --no-multiarch --install=check:ACE.install-out.txt --library=F:\biocbuild\bbs-3.20-bioc\R\library --no-vignettes --timings ACE_1.24.0.tar.gz StartedAt: 2025-02-03 23:00:18 -0500 (Mon, 03 Feb 2025) EndedAt: 2025-02-03 23:03:23 -0500 (Mon, 03 Feb 2025) EllapsedTime: 185.5 seconds RetCode: 0 Status: OK CheckDir: ACE.Rcheck Warnings: 0