Package: ACE Version: 1.24.0 Command: /home/biocbuild/R/R/bin/R CMD build --keep-empty-dirs --no-resave-data ACE StartedAt: 2025-02-03 21:31:54 -0000 (Mon, 03 Feb 2025) EndedAt: 2025-02-03 21:33:10 -0000 (Mon, 03 Feb 2025) EllapsedTime: 76.1 seconds RetCode: 0 Status: OK PackageFile: ACE_1.24.0.tar.gz PackageFileSize: 1.289 MiB