Package: ACE Version: 1.24.0 Command: /home/biocbuild/R/R/bin/R CMD INSTALL ACE StartedAt: 2025-02-03 20:49:32 -0000 (Mon, 03 Feb 2025) EndedAt: 2025-02-03 20:49:54 -0000 (Mon, 03 Feb 2025) EllapsedTime: 22.5 seconds RetCode: 0 Status: OK