Package: ADAM Version: 1.22.0 Command: /Library/Frameworks/R.framework/Resources/bin/R CMD build --keep-empty-dirs --no-resave-data ADAM StartedAt: 2025-02-03 18:25:30 -0500 (Mon, 03 Feb 2025) EndedAt: 2025-02-03 18:26:23 -0500 (Mon, 03 Feb 2025) EllapsedTime: 52.7 seconds RetCode: 0 Status: OK PackageFile: ADAM_1.22.0.tar.gz PackageFileSize: 321.1 KiB