Package: ADAM Version: 1.22.0 Command: /Library/Frameworks/R.framework/Resources/bin/R CMD INSTALL ADAM StartedAt: 2025-02-10 15:50:23 -0500 (Mon, 10 Feb 2025) EndedAt: 2025-02-10 15:51:31 -0500 (Mon, 10 Feb 2025) EllapsedTime: 67.7 seconds RetCode: 0 Status: OK