Package: ADAM Version: 1.22.0 Command: rm -rf ADAM.buildbin-libdir && mkdir ADAM.buildbin-libdir && F:\biocbuild\bbs-3.20-bioc\R\bin\R.exe CMD INSTALL --build --library=ADAM.buildbin-libdir ADAM_1.22.0.tar.gz StartedAt: 2025-02-04 07:55:38 -0500 (Tue, 04 Feb 2025) EndedAt: 2025-02-04 07:57:36 -0500 (Tue, 04 Feb 2025) EllapsedTime: 118.0 seconds RetCode: 0 Status: OK PackageFile: ADAM_1.22.0.zip PackageFileSize: 710.9 KiB