Package: ADAM Version: 1.22.0 Command: F:\biocbuild\bbs-3.20-bioc\R\bin\R.exe CMD check --no-multiarch --install=check:ADAM.install-out.txt --library=F:\biocbuild\bbs-3.20-bioc\R\library --no-vignettes --timings ADAM_1.22.0.tar.gz StartedAt: 2025-02-10 22:55:40 -0500 (Mon, 10 Feb 2025) EndedAt: 2025-02-10 22:59:52 -0500 (Mon, 10 Feb 2025) EllapsedTime: 251.3 seconds RetCode: 0 Status: OK CheckDir: ADAM.Rcheck Warnings: 0