Package: ADAPT Version: 1.0.0 Command: /Library/Frameworks/R.framework/Resources/bin/R CMD build --keep-empty-dirs --no-resave-data ADAPT StartedAt: 2025-02-13 18:32:22 -0500 (Thu, 13 Feb 2025) EndedAt: 2025-02-13 18:32:44 -0500 (Thu, 13 Feb 2025) EllapsedTime: 21.9 seconds RetCode: 1 Status: ERROR PackageFile: None PackageFileSize: NA